BEGIN:VCALENDAR
VERSION:2.0
PRODID:SchoolNow
CALSCALE:GREGORIAN
BEGIN:VEVENT
UID:c3c8466c-08f3-11f0-9543-0a58a9feac02
DTSTAMP:20251216T154147Z
SUMMARY:SSC/ELAC
URL;VALUE=URI:https://www.dcp.org/dcp-el-primero-high-school/calendar/77640
 11/ssc-elac
DTSTART:20250825T233000Z
DTEND:20250826T003000Z
END:VEVENT
END:VCALENDAR
