BEGIN:VCALENDAR
VERSION:2.0
PRODID:SchoolNow
CALSCALE:GREGORIAN
BEGIN:VEVENT
UID:c3c86444-08f3-11f0-a9d1-0a58a9feac02
DTSTAMP:20251216T154147Z
SUMMARY:SSC/ELAC
URL;VALUE=URI:https://www.dcp.org/dcp-el-primero-high-school/calendar/77640
 32/ssc-elac
DTSTART:20250922T233000Z
DTEND:20250923T003000Z
END:VEVENT
END:VCALENDAR
