BEGIN:VCALENDAR
VERSION:2.0
PRODID:SchoolNow
CALSCALE:GREGORIAN
BEGIN:VEVENT
UID:9d37ae40-0b8a-11f0-92e1-0a58a9feac02
DTSTAMP:20251216T154147Z
SUMMARY:SSC/ELAC
URL;VALUE=URI:https://www.dcp.org/dcp-el-primero-high-school/calendar/77908
 46/ssc-elac
DTSTART:20261127T003000Z
DTEND:20261127T013000Z
END:VEVENT
END:VCALENDAR
