BEGIN:VCALENDAR
VERSION:2.0
PRODID:SchoolNow
CALSCALE:GREGORIAN
BEGIN:VEVENT
UID:6b7b6c0a-230b-11f0-ac49-02da089888a3
DTSTAMP:20251216T154147Z
SUMMARY:SSC/ELAC
URL;VALUE=URI:https://www.dcp.org/dcp-el-primero-high-school/calendar/80158
 12/ssc-elac
DTSTART:20261225T003000Z
DTEND:20261225T013000Z
END:VEVENT
END:VCALENDAR
