BEGIN:VCALENDAR
VERSION:2.0
PRODID:SchoolNow
CALSCALE:GREGORIAN
BEGIN:VEVENT
UID:58dd0112-3828-11f0-bb86-0a58a9feac02
DTSTAMP:20251216T154147Z
SUMMARY:SSC/ELAC
URL;VALUE=URI:https://www.dcp.org/dcp-el-primero-high-school/calendar/81887
 59/ssc-elac
DTSTART:20261229T003000Z
DTEND:20261229T013000Z
END:VEVENT
END:VCALENDAR
