BEGIN:VCALENDAR
VERSION:2.0
PRODID:SchoolNow
CALSCALE:GREGORIAN
BEGIN:VEVENT
UID:276c9ce6-3c24-11f0-9e4b-0a58a9feac02
DTSTAMP:20251216T154147Z
SUMMARY:SSC/ELAC
URL;VALUE=URI:https://www.dcp.org/dcp-el-primero-high-school/calendar/82172
 30/ssc-elac
DTSTART:20270129T003000Z
DTEND:20270129T013000Z
END:VEVENT
END:VCALENDAR
