BEGIN:VCALENDAR
VERSION:2.0
PRODID:SchoolNow
CALSCALE:GREGORIAN
BEGIN:VEVENT
UID:02ac6d82-533f-11f0-ba91-0a58a9feac02
DTSTAMP:20251216T154147Z
SUMMARY:SSC/ELAC
URL;VALUE=URI:https://www.dcp.org/dcp-el-primero-high-school/calendar/83602
 94/ssc-elac
DTSTART:20270223T003000Z
DTEND:20270223T013000Z
END:VEVENT
END:VCALENDAR
