BEGIN:VCALENDAR
VERSION:2.0
PRODID:SchoolNow
CALSCALE:GREGORIAN
BEGIN:VEVENT
UID:02ac755c-533f-11f0-a6c5-0a58a9feac02
DTSTAMP:20251216T154147Z
SUMMARY:SSC/ELAC
URL;VALUE=URI:https://www.dcp.org/dcp-el-primero-high-school/calendar/83602
 96/ssc-elac
DTSTART:20270226T003000Z
DTEND:20270226T013000Z
END:VEVENT
END:VCALENDAR
