BEGIN:VCALENDAR
VERSION:2.0
PRODID:SchoolNow
CALSCALE:GREGORIAN
BEGIN:VEVENT
UID:546a8958-b8b9-11f0-bfe4-0a58a9feac02
DTSTAMP:20251216T154147Z
SUMMARY:SSC/ELAC
URL;VALUE=URI:https://www.dcp.org/dcp-el-primero-high-school/calendar/87705
 37/ssc-elac
DTSTART:20270426T233000Z
DTEND:20270427T003000Z
END:VEVENT
END:VCALENDAR
