BEGIN:VCALENDAR
VERSION:2.0
PRODID:SchoolNow
CALSCALE:GREGORIAN
BEGIN:VEVENT
UID:546a8eee-b8b9-11f0-95a9-0a58a9feac02
DTSTAMP:20251216T154147Z
SUMMARY:SSC/ELAC
URL;VALUE=URI:https://www.dcp.org/dcp-el-primero-high-school/calendar/87705
 40/ssc-elac
DTSTART:20270322T233000Z
DTEND:20270323T003000Z
END:VEVENT
END:VCALENDAR
