BEGIN:VCALENDAR
VERSION:2.0
PRODID:SchoolNow
CALSCALE:GREGORIAN
BEGIN:VEVENT
UID:a0f89ea2-cb3f-11f0-8a9c-0a58a9feac02
DTSTAMP:20251216T154147Z
SUMMARY:SSC/ELAC
URL;VALUE=URI:https://www.dcp.org/dcp-el-primero-high-school/calendar/88106
 95/ssc-elac
DTSTART:20270726T233000Z
DTEND:20270727T003000Z
END:VEVENT
END:VCALENDAR
